BEGIN:VCALENDAR
VERSION:2.0
PRODID:-//hacksw/handcal//NONSGML v1.0//EN
BEGIN:VEVENT
UID:19555
DTSTART;VALUE=DATE:20250528
URL;VALUE=URI:ohschonhell.at/?page_id=43160
SUMMARY:Fortunea Records Release-Party: Restless EP by Peletronicc
LOCATION:SASS
END:VEVENT
END:VCALENDAR


