BEGIN:VCALENDAR
VERSION:2.0
PRODID:-//hacksw/handcal//NONSGML v1.0//EN
BEGIN:VEVENT
UID:19572
DTSTART;VALUE=DATE:20250509
URL;VALUE=URI:ohschonhell.at/?page_id=43194
SUMMARY:HERZZZ with Monster
LOCATION:SASS
END:VEVENT
END:VCALENDAR


