BEGIN:VCALENDAR
VERSION:2.0
PRODID:-//hacksw/handcal//NONSGML v1.0//EN
BEGIN:VEVENT
UID:19591
DTSTART;VALUE=DATE:20250517
URL;VALUE=URI:ohschonhell.at/?page_id=43233
SUMMARY:A LuvAffair with Calabazza
LOCATION:SASS
END:VEVENT
END:VCALENDAR


