BEGIN:VCALENDAR
VERSION:2.0
PRODID:-//hacksw/handcal//NONSGML v1.0//EN
BEGIN:VEVENT
UID:19615
DTSTART;VALUE=DATE:20250517
URL;VALUE=URI:ohschonhell.at/?page_id=43281
SUMMARY:Merkwürdig / Open Air
LOCATION:PORTO POLLO
END:VEVENT
END:VCALENDAR


