BEGIN:VCALENDAR
VERSION:2.0
PRODID:-//hacksw/handcal//NONSGML v1.0//EN
BEGIN:VEVENT
UID:19617
DTSTART;VALUE=DATE:20250518
URL;VALUE=URI:ohschonhell.at/?page_id=43285
SUMMARY:Techno Am Beach x Free Open Air 2025
LOCATION:VIENNA CITY BEACH CLUB
END:VEVENT
END:VCALENDAR


