BEGIN:VCALENDAR
VERSION:2.0
PRODID:-//hacksw/handcal//NONSGML v1.0//EN
BEGIN:VEVENT
UID:19621
DTSTART;VALUE=DATE:20250522
URL;VALUE=URI:ohschonhell.at/?page_id=43293
SUMMARY:Donnerstag Nacht mit Kaze Elza
LOCATION:SASS
END:VEVENT
END:VCALENDAR


