BEGIN:VCALENDAR
VERSION:2.0
PRODID:-//hacksw/handcal//NONSGML v1.0//EN
BEGIN:VEVENT
UID:19647
DTSTART;VALUE=DATE:20250523
URL;VALUE=URI:ohschonhell.at/?page_id=43345
SUMMARY:GREMLYNS UNITED
LOCATION:OPERA CLUB
END:VEVENT
END:VCALENDAR


