BEGIN:VCALENDAR
VERSION:2.0
PRODID:-//hacksw/handcal//NONSGML v1.0//EN
BEGIN:VEVENT
UID:19651
DTSTART;VALUE=DATE:20250523
URL;VALUE=URI:ohschonhell.at/?page_id=43353
SUMMARY:YOUPHORIA pres. by CINEMATIƆ x BASEMNT
LOCATION:Praterdome
END:VEVENT
END:VCALENDAR


