BEGIN:VCALENDAR
VERSION:2.0
PRODID:-//hacksw/handcal//NONSGML v1.0//EN
BEGIN:VEVENT
UID:19667
DTSTART;VALUE=DATE:20250615
URL;VALUE=URI:ohschonhell.at/?page_id=43386
SUMMARY:PRIDE
LOCATION:SASS
END:VEVENT
END:VCALENDAR


