BEGIN:VCALENDAR
VERSION:2.0
PRODID:-//hacksw/handcal//NONSGML v1.0//EN
BEGIN:VEVENT
UID:19679
DTSTART;VALUE=DATE:20250528
URL;VALUE=URI:ohschonhell.at/?page_id=43410
SUMMARY:Wiener Mischung x Kramladen x Gürtel Connection
LOCATION:Kramladen
END:VEVENT
END:VCALENDAR


