BEGIN:VCALENDAR
VERSION:2.0
PRODID:-//hacksw/handcal//NONSGML v1.0//EN
BEGIN:VEVENT
UID:19700
DTSTART;VALUE=DATE:20250612
URL;VALUE=URI:ohschonhell.at/?page_id=43452
SUMMARY:HART &amp\; ZART
LOCATION:Kramladen
END:VEVENT
END:VCALENDAR


