BEGIN:VCALENDAR
VERSION:2.0
PRODID:-//hacksw/handcal//NONSGML v1.0//EN
BEGIN:VEVENT
UID:1971
DTSTART;VALUE=DATE:20140830
URL;VALUE=URI:ohschonhell.at/?page_id=4617
SUMMARY:Ragnarhof während dem  Gürtelnightwalk
LOCATION:RAGNARHOF
END:VEVENT
END:VCALENDAR


