BEGIN:VCALENDAR
VERSION:2.0
PRODID:-//hacksw/handcal//NONSGML v1.0//EN
BEGIN:VEVENT
UID:19720
DTSTART;VALUE=DATE:20250606
URL;VALUE=URI:ohschonhell.at/?page_id=43493
SUMMARY:Anfisa Letyago pres. by CHROM:E - 3 FLOORS TECHNO
LOCATION:Praterdome
END:VEVENT
END:VCALENDAR


