BEGIN:VCALENDAR
VERSION:2.0
PRODID:-//hacksw/handcal//NONSGML v1.0//EN
BEGIN:VEVENT
UID:19733
DTSTART;VALUE=DATE:20250619
URL;VALUE=URI:ohschonhell.at/?page_id=43520
SUMMARY:deep cut - hypnotic &amp\; deep techno w/ MERGE\, urna()sonic\, pezel
LOCATION:Kramladen
END:VEVENT
END:VCALENDAR


