BEGIN:VCALENDAR
VERSION:2.0
PRODID:-//hacksw/handcal//NONSGML v1.0//EN
BEGIN:VEVENT
UID:1975
DTSTART;VALUE=DATE:20140828
URL;VALUE=URI:ohschonhell.at/?page_id=4621
SUMMARY:ASØ_I¯¯Ø815A
LOCATION:OBEN OHNE ÜDDW
END:VEVENT
END:VCALENDAR


