BEGIN:VCALENDAR
VERSION:2.0
PRODID:-//hacksw/handcal//NONSGML v1.0//EN
BEGIN:VEVENT
UID:19761
DTSTART;VALUE=DATE:20250616
URL;VALUE=URI:ohschonhell.at/?page_id=43576
SUMMARY:TECHNO AM BEACH x OPEN AIR 2025
LOCATION:VIENNA CITY BEACH CLUB
END:VEVENT
END:VCALENDAR


