BEGIN:VCALENDAR
VERSION:2.0
PRODID:-//hacksw/handcal//NONSGML v1.0//EN
BEGIN:VEVENT
UID:19764
DTSTART;VALUE=DATE:20250618
URL;VALUE=URI:ohschonhell.at/?page_id=43582
SUMMARY:PARK IT HERE - UK GARAGE / BASSLINE / GRIME
LOCATION:SASS
END:VEVENT
END:VCALENDAR


