BEGIN:VCALENDAR
VERSION:2.0
PRODID:-//hacksw/handcal//NONSGML v1.0//EN
BEGIN:VEVENT
UID:19818
DTSTART;VALUE=DATE:20250703
URL;VALUE=URI:ohschonhell.at/?page_id=43692
SUMMARY:Theta Waves
LOCATION:Kramladen
END:VEVENT
END:VCALENDAR


