BEGIN:VCALENDAR
VERSION:2.0
PRODID:-//hacksw/handcal//NONSGML v1.0//EN
BEGIN:VEVENT
UID:19820
DTSTART;VALUE=DATE:20250704
URL;VALUE=URI:ohschonhell.at/?page_id=43696
SUMMARY:Easy at Porto Pollo
LOCATION:PORTO POLLO
END:VEVENT
END:VCALENDAR


