BEGIN:VCALENDAR
VERSION:2.0
PRODID:-//hacksw/handcal//NONSGML v1.0//EN
BEGIN:VEVENT
UID:1983
DTSTART;VALUE=DATE:20140830
URL;VALUE=URI:ohschonhell.at/?page_id=4631
SUMMARY:ELEKTRALAND PARTY
LOCATION:ELEKTRO GÖNNER
END:VEVENT
END:VCALENDAR


