BEGIN:VCALENDAR
VERSION:2.0
PRODID:-//hacksw/handcal//NONSGML v1.0//EN
BEGIN:VEVENT
UID:19839
DTSTART;VALUE=DATE:20250717
URL;VALUE=URI:ohschonhell.at/?page_id=43735
SUMMARY:WUMS1707
LOCATION:SASS
END:VEVENT
END:VCALENDAR


