BEGIN:VCALENDAR
VERSION:2.0
PRODID:-//hacksw/handcal//NONSGML v1.0//EN
BEGIN:VEVENT
UID:19846
DTSTART;VALUE=DATE:20250725
URL;VALUE=URI:ohschonhell.at/?page_id=43749
SUMMARY:WRECK invites AUDRI [IT]
LOCATION:SASS
END:VEVENT
END:VCALENDAR


