BEGIN:VCALENDAR
VERSION:2.0
PRODID:-//hacksw/handcal//NONSGML v1.0//EN
BEGIN:VEVENT
UID:19851
DTSTART;VALUE=DATE:20250718
URL;VALUE=URI:ohschonhell.at/?page_id=43759
SUMMARY:Cyber
LOCATION:SASS
END:VEVENT
END:VCALENDAR


