BEGIN:VCALENDAR
VERSION:2.0
PRODID:-//hacksw/handcal//NONSGML v1.0//EN
BEGIN:VEVENT
UID:19875
DTSTART;VALUE=DATE:20250725
URL;VALUE=URI:ohschonhell.at/?page_id=43809
SUMMARY:Beatdown | Darkshire Edition
LOCATION:DAM / DAM
END:VEVENT
END:VCALENDAR


