BEGIN:VCALENDAR
VERSION:2.0
PRODID:-//hacksw/handcal//NONSGML v1.0//EN
BEGIN:VEVENT
UID:19907
DTSTART;VALUE=DATE:20250801
URL;VALUE=URI:ohschonhell.at/?page_id=43873
SUMMARY:Spectral with Jaiden Wild
LOCATION:Kramladen
END:VEVENT
END:VCALENDAR


