BEGIN:VCALENDAR
VERSION:2.0
PRODID:-//hacksw/handcal//NONSGML v1.0//EN
BEGIN:VEVENT
UID:19926
DTSTART;VALUE=DATE:20250808
URL;VALUE=URI:ohschonhell.at/?page_id=43912
SUMMARY:La Voilère - Birdhouse x Wiener Mischung
LOCATION:SUMMER STATION
END:VEVENT
END:VCALENDAR


