BEGIN:VCALENDAR
VERSION:2.0
PRODID:-//hacksw/handcal//NONSGML v1.0//EN
BEGIN:VEVENT
UID:19927
DTSTART;VALUE=DATE:20250814
URL;VALUE=URI:ohschonhell.at/?page_id=43915
SUMMARY:Ontology - deep\, minimal\, melodic\, techno
LOCATION:Kramladen
END:VEVENT
END:VCALENDAR


