BEGIN:VCALENDAR
VERSION:2.0
PRODID:-//hacksw/handcal//NONSGML v1.0//EN
BEGIN:VEVENT
UID:19933
DTSTART;VALUE=DATE:20250814
URL;VALUE=URI:ohschonhell.at/?page_id=43927
SUMMARY:nomind. #5
LOCATION:PORTO POLLO
END:VEVENT
END:VCALENDAR


