BEGIN:VCALENDAR
VERSION:2.0
PRODID:-//hacksw/handcal//NONSGML v1.0//EN
BEGIN:VEVENT
UID:19939
DTSTART;VALUE=DATE:20250815
URL;VALUE=URI:ohschonhell.at/?page_id=43939
SUMMARY:AMORE AG + Club Fatale + Collective room 555
LOCATION:PORTO POLLO
END:VEVENT
END:VCALENDAR


