BEGIN:VCALENDAR
VERSION:2.0
PRODID:-//hacksw/handcal//NONSGML v1.0//EN
BEGIN:VEVENT
UID:19945
DTSTART;VALUE=DATE:20250816
URL;VALUE=URI:ohschonhell.at/?page_id=43951
SUMMARY:MERKWÜRDIG / OPEN AIR / RAVE with Phil Evans & Nate S.U
LOCATION:PORTO POLLO
END:VEVENT
END:VCALENDAR


