BEGIN:VCALENDAR
VERSION:2.0
PRODID:-//hacksw/handcal//NONSGML v1.0//EN
BEGIN:VEVENT
UID:19956
DTSTART;VALUE=DATE:20250819
URL;VALUE=URI:ohschonhell.at/?page_id=43973
SUMMARY:Res Radio Open Air
LOCATION:PORTO POLLO
END:VEVENT
END:VCALENDAR


