BEGIN:VCALENDAR
VERSION:2.0
PRODID:-//hacksw/handcal//NONSGML v1.0//EN
BEGIN:VEVENT
UID:19958
DTSTART;VALUE=DATE:20250823
URL;VALUE=URI:ohschonhell.at/?page_id=43977
SUMMARY:Free Spaces Vol. 3 - Unlock the Free Space
LOCATION:Donauinsel
END:VEVENT
END:VCALENDAR


