BEGIN:VCALENDAR
VERSION:2.0
PRODID:-//hacksw/handcal//NONSGML v1.0//EN
BEGIN:VEVENT
UID:19963
DTSTART;VALUE=DATE:20250919
URL;VALUE=URI:ohschonhell.at/?page_id=43987
SUMMARY:Female Pleasure #2
LOCATION:Kramladen
END:VEVENT
END:VCALENDAR


