BEGIN:VCALENDAR
VERSION:2.0
PRODID:-//hacksw/handcal//NONSGML v1.0//EN
BEGIN:VEVENT
UID:19995
DTSTART;VALUE=DATE:20250829
URL;VALUE=URI:ohschonhell.at/?page_id=44052
SUMMARY:deep cut 14 w Lto\, pezel\, urna()sonic - hypnotic & deep Techno
LOCATION:Kramladen
END:VEVENT
END:VCALENDAR


