BEGIN:VCALENDAR
VERSION:2.0
PRODID:-//hacksw/handcal//NONSGML v1.0//EN
BEGIN:VEVENT
UID:2
DTSTART;VALUE=DATE:20131116
URL;VALUE=URI:ohschonhell.at/?page_id=2398
SUMMARY:Rick Wade | Grelle Nacht | &lt\;&gt\;&lt\;
LOCATION:GRELLE FORELLE
END:VEVENT
END:VCALENDAR


