BEGIN:VCALENDAR
VERSION:2.0
PRODID:-//hacksw/handcal//NONSGML v1.0//EN
BEGIN:VEVENT
UID:20027
DTSTART;VALUE=DATE:20250907
URL;VALUE=URI:ohschonhell.at/?page_id=44117
SUMMARY:Morgengymnastik
LOCATION:SASS
END:VEVENT
END:VCALENDAR


