BEGIN:VCALENDAR
VERSION:2.0
PRODID:-//hacksw/handcal//NONSGML v1.0//EN
BEGIN:VEVENT
UID:20030
DTSTART;VALUE=DATE:20250911
URL;VALUE=URI:ohschonhell.at/?page_id=44124
SUMMARY:Mixxed Showcases
LOCATION:Gleis19
END:VEVENT
END:VCALENDAR


