BEGIN:VCALENDAR
VERSION:2.0
PRODID:-//hacksw/handcal//NONSGML v1.0//EN
BEGIN:VEVENT
UID:20031
DTSTART;VALUE=DATE:20250911
URL;VALUE=URI:ohschonhell.at/?page_id=44126
SUMMARY:BRU BRU BRU BRU Groovy House Edition Vienna
LOCATION:SASS
END:VEVENT
END:VCALENDAR


