BEGIN:VCALENDAR
VERSION:2.0
PRODID:-//hacksw/handcal//NONSGML v1.0//EN
BEGIN:VEVENT
UID:2004
DTSTART;VALUE=DATE:20140902
URL;VALUE=URI:ohschonhell.at/?page_id=4655
SUMMARY:Das Techno Cafe
LOCATION:VOLKSGARTEN PAVILLON
END:VEVENT
END:VCALENDAR


