BEGIN:VCALENDAR
VERSION:2.0
PRODID:-//hacksw/handcal//NONSGML v1.0//EN
BEGIN:VEVENT
UID:20040
DTSTART;VALUE=DATE:20250927
URL;VALUE=URI:ohschonhell.at/?page_id=44144
SUMMARY:Thomas + Friends
LOCATION:SASS
END:VEVENT
END:VCALENDAR


