BEGIN:VCALENDAR
VERSION:2.0
PRODID:-//hacksw/handcal//NONSGML v1.0//EN
BEGIN:VEVENT
UID:20052
DTSTART;VALUE=DATE:20250928
URL;VALUE=URI:ohschonhell.at/?page_id=44168
SUMMARY:Morgengymnastik
LOCATION:SASS
END:VEVENT
END:VCALENDAR


