BEGIN:VCALENDAR
VERSION:2.0
PRODID:-//hacksw/handcal//NONSGML v1.0//EN
BEGIN:VEVENT
UID:20057
DTSTART;VALUE=DATE:20250912
URL;VALUE=URI:ohschonhell.at/?page_id=44178
SUMMARY:Playa Magika with Alma Linda
LOCATION:PORTO POLLO
END:VEVENT
END:VCALENDAR


