BEGIN:VCALENDAR
VERSION:2.0
PRODID:-//hacksw/handcal//NONSGML v1.0//EN
BEGIN:VEVENT
UID:2006
DTSTART;VALUE=DATE:20140919
URL;VALUE=URI:ohschonhell.at/?page_id=4657
SUMMARY:ELECTRO SWING CARNEVAL - SEASON OPENING
LOCATION:CAFE LEOPOLD
END:VEVENT
END:VCALENDAR


