BEGIN:VCALENDAR
VERSION:2.0
PRODID:-//hacksw/handcal//NONSGML v1.0//EN
BEGIN:VEVENT
UID:20071
DTSTART;VALUE=DATE:20250918
URL;VALUE=URI:ohschonhell.at/?page_id=44207
SUMMARY:RAVELADEN x Schroedinger‘s Groove
LOCATION:Kramladen
END:VEVENT
END:VCALENDAR


