BEGIN:VCALENDAR
VERSION:2.0
PRODID:-//hacksw/handcal//NONSGML v1.0//EN
BEGIN:VEVENT
UID:20080
DTSTART;VALUE=DATE:20250918
URL;VALUE=URI:ohschonhell.at/?page_id=44225
SUMMARY:nomind. #6
LOCATION:PORTO POLLO
END:VEVENT
END:VCALENDAR


