BEGIN:VCALENDAR
VERSION:2.0
PRODID:-//hacksw/handcal//NONSGML v1.0//EN
BEGIN:VEVENT
UID:20088
DTSTART;VALUE=DATE:20250919
URL;VALUE=URI:ohschonhell.at/?page_id=44241
SUMMARY:who the f*ck is Enzo x proleten x atzenpardy3000
LOCATION:Enzo
END:VEVENT
END:VCALENDAR


