BEGIN:VCALENDAR
VERSION:2.0
PRODID:-//hacksw/handcal//NONSGML v1.0//EN
BEGIN:VEVENT
UID:20133
DTSTART;VALUE=DATE:20251012
URL;VALUE=URI:ohschonhell.at/?page_id=44332
SUMMARY:Morgengymnastik
LOCATION:SASS
END:VEVENT
END:VCALENDAR


