BEGIN:VCALENDAR
VERSION:2.0
PRODID:-//hacksw/handcal//NONSGML v1.0//EN
BEGIN:VEVENT
UID:20151
DTSTART;VALUE=DATE:20251011
URL;VALUE=URI:ohschonhell.at/?page_id=44368
SUMMARY:Cardio Cult w/ Andi Britz &amp\; Anna Soto
LOCATION:SASS
END:VEVENT
END:VCALENDAR


