BEGIN:VCALENDAR
VERSION:2.0
PRODID:-//hacksw/handcal//NONSGML v1.0//EN
BEGIN:VEVENT
UID:20156
DTSTART;VALUE=DATE:20251017
URL;VALUE=URI:ohschonhell.at/?page_id=44378
SUMMARY:Amore AG presents: CAMP PROG
LOCATION:SASS
END:VEVENT
END:VCALENDAR


