BEGIN:VCALENDAR
VERSION:2.0
PRODID:-//hacksw/handcal//NONSGML v1.0//EN
BEGIN:VEVENT
UID:20167
DTSTART;VALUE=DATE:20251011
URL;VALUE=URI:ohschonhell.at/?page_id=44400
SUMMARY:Fractal Nights w/ Onyon\, Topsy Turvy\, Stereo Deathray
LOCATION:VENSTER 99
END:VEVENT
END:VCALENDAR


